BEGIN:VCALENDAR
VERSION:2.0
PRODID:-//Now I Lay Me Down to Sleep - ECPv6.15.20//NONSGML v1.0//EN
CALSCALE:GREGORIAN
METHOD:PUBLISH
X-ORIGINAL-URL:https://www.nowilaymedowntosleep.org
X-WR-CALDESC:Events for Now I Lay Me Down to Sleep
REFRESH-INTERVAL;VALUE=DURATION:PT1H
X-Robots-Tag:noindex
X-PUBLISHED-TTL:PT1H
BEGIN:VTIMEZONE
TZID:America/Chicago
BEGIN:DAYLIGHT
TZOFFSETFROM:-0600
TZOFFSETTO:-0500
TZNAME:CDT
DTSTART:20220313T080000
END:DAYLIGHT
BEGIN:STANDARD
TZOFFSETFROM:-0500
TZOFFSETTO:-0600
TZNAME:CST
DTSTART:20221106T070000
END:STANDARD
BEGIN:DAYLIGHT
TZOFFSETFROM:-0600
TZOFFSETTO:-0500
TZNAME:CDT
DTSTART:20230312T080000
END:DAYLIGHT
BEGIN:STANDARD
TZOFFSETFROM:-0500
TZOFFSETTO:-0600
TZNAME:CST
DTSTART:20231105T070000
END:STANDARD
BEGIN:DAYLIGHT
TZOFFSETFROM:-0600
TZOFFSETTO:-0500
TZNAME:CDT
DTSTART:20240310T080000
END:DAYLIGHT
BEGIN:STANDARD
TZOFFSETFROM:-0500
TZOFFSETTO:-0600
TZNAME:CST
DTSTART:20241103T070000
END:STANDARD
END:VTIMEZONE
BEGIN:VEVENT
DTSTART;TZID=America/Chicago:20231210T100000
DTEND;TZID=America/Chicago:20231210T180000
DTSTAMP:20260424T141355
CREATED:20231117T201105Z
LAST-MODIFIED:20241021T231919Z
UID:41730-1702202400-1702231200@www.nowilaymedowntosleep.org
SUMMARY:Project Intentional
DESCRIPTION:
URL:https://www.nowilaymedowntosleep.org/events/project-intentional/
LOCATION:Baxter Arena\, 2425 South 67th Street\, Omaha\, NE\, 68182\, United States
CATEGORIES:Convention / Trade Show
ATTACH;FMTTYPE=image/jpeg:https://www.nowilaymedowntosleep.org/wp-content/uploads/2023/11/Project_Intentional_Logo.jpg
END:VEVENT
END:VCALENDAR