BEGIN:VCALENDAR
VERSION:2.0
PRODID:-//Now I Lay Me Down to Sleep - ECPv6.15.20//NONSGML v1.0//EN
CALSCALE:GREGORIAN
METHOD:PUBLISH
X-WR-CALNAME:Now I Lay Me Down to Sleep
X-ORIGINAL-URL:https://www.nowilaymedowntosleep.org
X-WR-CALDESC:Events for Now I Lay Me Down to Sleep
REFRESH-INTERVAL;VALUE=DURATION:PT1H
X-Robots-Tag:noindex
X-PUBLISHED-TTL:PT1H
BEGIN:VTIMEZONE
TZID:America/Los_Angeles
BEGIN:DAYLIGHT
TZOFFSETFROM:-0800
TZOFFSETTO:-0700
TZNAME:PDT
DTSTART:20220313T100000
END:DAYLIGHT
BEGIN:STANDARD
TZOFFSETFROM:-0700
TZOFFSETTO:-0800
TZNAME:PST
DTSTART:20221106T090000
END:STANDARD
BEGIN:DAYLIGHT
TZOFFSETFROM:-0800
TZOFFSETTO:-0700
TZNAME:PDT
DTSTART:20230312T100000
END:DAYLIGHT
BEGIN:STANDARD
TZOFFSETFROM:-0700
TZOFFSETTO:-0800
TZNAME:PST
DTSTART:20231105T090000
END:STANDARD
BEGIN:DAYLIGHT
TZOFFSETFROM:-0800
TZOFFSETTO:-0700
TZNAME:PDT
DTSTART:20240310T100000
END:DAYLIGHT
BEGIN:STANDARD
TZOFFSETFROM:-0700
TZOFFSETTO:-0800
TZNAME:PST
DTSTART:20241103T090000
END:STANDARD
END:VTIMEZONE
BEGIN:VEVENT
DTSTART;TZID=America/Los_Angeles:20231116T100000
DTEND;TZID=America/Los_Angeles:20231116T110000
DTSTAMP:20260424T200819
CREATED:20231107T222507Z
LAST-MODIFIED:20241021T231920Z
UID:41704-1700128800-1700132400@www.nowilaymedowntosleep.org
SUMMARY:Healing Hearts: The Impact of Remembrance Photography
DESCRIPTION:Did you know photographs can profoundly impact the healing journey for families in need? \nNow I Lay Me Down to Sleep\, ShootProof Galleries for Good partner\, is a non-profit organization that provides remembrance photography to families who have experienced the loss of a baby. By offering photo sessions in the hospital\, NILMDTS photographers create lasting\, cherished memories for parents\, helping them cope with their grief and find comfort during a challenging time. \nJoin us on Thursday\, November 16th @1pm ET for a meaningful conversation \nVolunteer Melanie Rodger will delve into NILMDTS’s mission\, the families they support\, and how photographers just like you can make a difference by volunteering your skills.
URL:https://www.nowilaymedowntosleep.org/events/shootproof/
LOCATION:Online
CATEGORIES:Volunteer Recruitment
ATTACH;FMTTYPE=image/png:https://www.nowilaymedowntosleep.org/wp-content/uploads/2020/12/shootproof-logo.png
END:VEVENT
END:VCALENDAR