BEGIN:VCALENDAR
VERSION:2.0
PRODID:-//Now I Lay Me Down to Sleep - ECPv6.15.20//NONSGML v1.0//EN
CALSCALE:GREGORIAN
METHOD:PUBLISH
X-WR-CALNAME:Now I Lay Me Down to Sleep
X-ORIGINAL-URL:https://www.nowilaymedowntosleep.org
X-WR-CALDESC:Events for Now I Lay Me Down to Sleep
REFRESH-INTERVAL;VALUE=DURATION:PT1H
X-Robots-Tag:noindex
X-PUBLISHED-TTL:PT1H
BEGIN:VTIMEZONE
TZID:America/Chicago
BEGIN:DAYLIGHT
TZOFFSETFROM:-0600
TZOFFSETTO:-0500
TZNAME:CDT
DTSTART:20250309T080000
END:DAYLIGHT
BEGIN:STANDARD
TZOFFSETFROM:-0500
TZOFFSETTO:-0600
TZNAME:CST
DTSTART:20251102T070000
END:STANDARD
BEGIN:DAYLIGHT
TZOFFSETFROM:-0600
TZOFFSETTO:-0500
TZNAME:CDT
DTSTART:20260308T080000
END:DAYLIGHT
BEGIN:STANDARD
TZOFFSETFROM:-0500
TZOFFSETTO:-0600
TZNAME:CST
DTSTART:20261101T070000
END:STANDARD
BEGIN:DAYLIGHT
TZOFFSETFROM:-0600
TZOFFSETTO:-0500
TZNAME:CDT
DTSTART:20270314T080000
END:DAYLIGHT
BEGIN:STANDARD
TZOFFSETFROM:-0500
TZOFFSETTO:-0600
TZNAME:CST
DTSTART:20271107T070000
END:STANDARD
END:VTIMEZONE
BEGIN:VEVENT
DTSTART;VALUE=DATE:20260111
DTEND;VALUE=DATE:20260114
DTSTAMP:20260423T004805
CREATED:20210721T232058Z
LAST-MODIFIED:20251125T215620Z
UID:39031-1768089600-1768348799@www.nowilaymedowntosleep.org
SUMMARY:Imaging USA
DESCRIPTION:Visit us at booth TBD\nTrade Show Hours\nSunday\, Jan 11 …………………………………………. 11:30am – 5:00pmMonday\, Jan 12 ……………………………………….. 11:30am – 5:00pmTuesday\, Jan. 13……………………………………….. 11:30am – 3:30pm \nStop by to say hi to some staff and volunteers at the ImagingUSA Conference and learn about becoming a volunteer. \n\n      \n\n\n\n\nInterested in Volunteering? Sign up for info!\n* indicates required\nFirst Name \nLast Name \nEmail Address *\nSMS Phone Number * \n\n \n\n🇺🇸US+1\n\n\n\n\n\nNow I Lay Me Down to Sleep – By providing your phone number and checking the box\, you agree to receive promotional and marketing messages\, donation solicitations\, notifications\, and customer service communications from Now I Lay Me Down to Sleep. Message and data rates may apply. Consent is not a condition of purchase. Message frequency varies. Text HELP for help. Text STOP to cancel. See  andTerms.
URL:https://www.nowilaymedowntosleep.org/events/iusa/
LOCATION:Gaylord Opryland Resort & Convention Center\, 2800 Opryland Dr\, Nashville\, TN\, 37214\, United States
CATEGORIES:Convention / Trade Show,Volunteer Recruitment
ATTACH;FMTTYPE=image/jpeg:https://www.nowilaymedowntosleep.org/wp-content/uploads/2019/10/maxresdefault.jpg
END:VEVENT
END:VCALENDAR