BEGIN:VCALENDAR
VERSION:2.0
PRODID:-//Now I Lay Me Down to Sleep - ECPv6.15.20//NONSGML v1.0//EN
CALSCALE:GREGORIAN
METHOD:PUBLISH
X-ORIGINAL-URL:https://www.nowilaymedowntosleep.org
X-WR-CALDESC:Events for Now I Lay Me Down to Sleep
REFRESH-INTERVAL;VALUE=DURATION:PT1H
X-Robots-Tag:noindex
X-PUBLISHED-TTL:PT1H
BEGIN:VTIMEZONE
TZID:America/Denver
BEGIN:DAYLIGHT
TZOFFSETFROM:-0700
TZOFFSETTO:-0600
TZNAME:MDT
DTSTART:20210314T090000
END:DAYLIGHT
BEGIN:STANDARD
TZOFFSETFROM:-0600
TZOFFSETTO:-0700
TZNAME:MST
DTSTART:20211107T080000
END:STANDARD
BEGIN:DAYLIGHT
TZOFFSETFROM:-0700
TZOFFSETTO:-0600
TZNAME:MDT
DTSTART:20220313T090000
END:DAYLIGHT
BEGIN:STANDARD
TZOFFSETFROM:-0600
TZOFFSETTO:-0700
TZNAME:MST
DTSTART:20221106T080000
END:STANDARD
BEGIN:DAYLIGHT
TZOFFSETFROM:-0700
TZOFFSETTO:-0600
TZNAME:MDT
DTSTART:20230312T090000
END:DAYLIGHT
BEGIN:STANDARD
TZOFFSETFROM:-0600
TZOFFSETTO:-0700
TZNAME:MST
DTSTART:20231105T080000
END:STANDARD
BEGIN:DAYLIGHT
TZOFFSETFROM:-0700
TZOFFSETTO:-0600
TZNAME:MDT
DTSTART:20240310T090000
END:DAYLIGHT
BEGIN:STANDARD
TZOFFSETFROM:-0600
TZOFFSETTO:-0700
TZNAME:MST
DTSTART:20241103T080000
END:STANDARD
BEGIN:DAYLIGHT
TZOFFSETFROM:-0700
TZOFFSETTO:-0600
TZNAME:MDT
DTSTART:20250309T090000
END:DAYLIGHT
BEGIN:STANDARD
TZOFFSETFROM:-0600
TZOFFSETTO:-0700
TZNAME:MST
DTSTART:20251102T080000
END:STANDARD
BEGIN:DAYLIGHT
TZOFFSETFROM:-0700
TZOFFSETTO:-0600
TZNAME:MDT
DTSTART:20260308T090000
END:DAYLIGHT
BEGIN:STANDARD
TZOFFSETFROM:-0600
TZOFFSETTO:-0700
TZNAME:MST
DTSTART:20261101T080000
END:STANDARD
BEGIN:DAYLIGHT
TZOFFSETFROM:-0700
TZOFFSETTO:-0600
TZNAME:MDT
DTSTART:20270314T090000
END:DAYLIGHT
BEGIN:STANDARD
TZOFFSETFROM:-0600
TZOFFSETTO:-0700
TZNAME:MST
DTSTART:20271107T080000
END:STANDARD
END:VTIMEZONE
BEGIN:VTIMEZONE
TZID:America/Chicago
BEGIN:DAYLIGHT
TZOFFSETFROM:-0600
TZOFFSETTO:-0500
TZNAME:CDT
DTSTART:20230312T080000
END:DAYLIGHT
BEGIN:STANDARD
TZOFFSETFROM:-0500
TZOFFSETTO:-0600
TZNAME:CST
DTSTART:20231105T070000
END:STANDARD
BEGIN:DAYLIGHT
TZOFFSETFROM:-0600
TZOFFSETTO:-0500
TZNAME:CDT
DTSTART:20240310T080000
END:DAYLIGHT
BEGIN:STANDARD
TZOFFSETFROM:-0500
TZOFFSETTO:-0600
TZNAME:CST
DTSTART:20241103T070000
END:STANDARD
BEGIN:DAYLIGHT
TZOFFSETFROM:-0600
TZOFFSETTO:-0500
TZNAME:CDT
DTSTART:20250309T080000
END:DAYLIGHT
BEGIN:STANDARD
TZOFFSETFROM:-0500
TZOFFSETTO:-0600
TZNAME:CST
DTSTART:20251102T070000
END:STANDARD
BEGIN:DAYLIGHT
TZOFFSETFROM:-0600
TZOFFSETTO:-0500
TZNAME:CDT
DTSTART:20260308T080000
END:DAYLIGHT
BEGIN:STANDARD
TZOFFSETFROM:-0500
TZOFFSETTO:-0600
TZNAME:CST
DTSTART:20261101T070000
END:STANDARD
END:VTIMEZONE
BEGIN:VTIMEZONE
TZID:America/Detroit
BEGIN:DAYLIGHT
TZOFFSETFROM:-0500
TZOFFSETTO:-0400
TZNAME:EDT
DTSTART:20190310T070000
END:DAYLIGHT
BEGIN:STANDARD
TZOFFSETFROM:-0400
TZOFFSETTO:-0500
TZNAME:EST
DTSTART:20191103T060000
END:STANDARD
BEGIN:DAYLIGHT
TZOFFSETFROM:-0500
TZOFFSETTO:-0400
TZNAME:EDT
DTSTART:20200308T070000
END:DAYLIGHT
BEGIN:STANDARD
TZOFFSETFROM:-0400
TZOFFSETTO:-0500
TZNAME:EST
DTSTART:20201101T060000
END:STANDARD
BEGIN:DAYLIGHT
TZOFFSETFROM:-0500
TZOFFSETTO:-0400
TZNAME:EDT
DTSTART:20210314T070000
END:DAYLIGHT
BEGIN:STANDARD
TZOFFSETFROM:-0400
TZOFFSETTO:-0500
TZNAME:EST
DTSTART:20211107T060000
END:STANDARD
BEGIN:DAYLIGHT
TZOFFSETFROM:-0500
TZOFFSETTO:-0400
TZNAME:EDT
DTSTART:20220313T070000
END:DAYLIGHT
BEGIN:STANDARD
TZOFFSETFROM:-0400
TZOFFSETTO:-0500
TZNAME:EST
DTSTART:20221106T060000
END:STANDARD
BEGIN:DAYLIGHT
TZOFFSETFROM:-0500
TZOFFSETTO:-0400
TZNAME:EDT
DTSTART:20230312T070000
END:DAYLIGHT
BEGIN:STANDARD
TZOFFSETFROM:-0400
TZOFFSETTO:-0500
TZNAME:EST
DTSTART:20231105T060000
END:STANDARD
BEGIN:DAYLIGHT
TZOFFSETFROM:-0500
TZOFFSETTO:-0400
TZNAME:EDT
DTSTART:20240310T070000
END:DAYLIGHT
BEGIN:STANDARD
TZOFFSETFROM:-0400
TZOFFSETTO:-0500
TZNAME:EST
DTSTART:20241103T060000
END:STANDARD
BEGIN:DAYLIGHT
TZOFFSETFROM:-0500
TZOFFSETTO:-0400
TZNAME:EDT
DTSTART:20250309T070000
END:DAYLIGHT
BEGIN:STANDARD
TZOFFSETFROM:-0400
TZOFFSETTO:-0500
TZNAME:EST
DTSTART:20251102T060000
END:STANDARD
BEGIN:DAYLIGHT
TZOFFSETFROM:-0500
TZOFFSETTO:-0400
TZNAME:EDT
DTSTART:20260308T070000
END:DAYLIGHT
BEGIN:STANDARD
TZOFFSETFROM:-0400
TZOFFSETTO:-0500
TZNAME:EST
DTSTART:20261101T060000
END:STANDARD
END:VTIMEZONE
BEGIN:VTIMEZONE
TZID:America/New_York
BEGIN:DAYLIGHT
TZOFFSETFROM:-0500
TZOFFSETTO:-0400
TZNAME:EDT
DTSTART:20210314T070000
END:DAYLIGHT
BEGIN:STANDARD
TZOFFSETFROM:-0400
TZOFFSETTO:-0500
TZNAME:EST
DTSTART:20211107T060000
END:STANDARD
BEGIN:DAYLIGHT
TZOFFSETFROM:-0500
TZOFFSETTO:-0400
TZNAME:EDT
DTSTART:20220313T070000
END:DAYLIGHT
BEGIN:STANDARD
TZOFFSETFROM:-0400
TZOFFSETTO:-0500
TZNAME:EST
DTSTART:20221106T060000
END:STANDARD
BEGIN:DAYLIGHT
TZOFFSETFROM:-0500
TZOFFSETTO:-0400
TZNAME:EDT
DTSTART:20230312T070000
END:DAYLIGHT
BEGIN:STANDARD
TZOFFSETFROM:-0400
TZOFFSETTO:-0500
TZNAME:EST
DTSTART:20231105T060000
END:STANDARD
END:VTIMEZONE
BEGIN:VEVENT
DTSTART;VALUE=DATE:20260208
DTEND;VALUE=DATE:20260215
DTSTAMP:20260422T201429
CREATED:20260207T031507Z
LAST-MODIFIED:20260407T174512Z
UID:43070-1770508800-1771113599@www.nowilaymedowntosleep.org
SUMMARY:Gaming for Remembrance
DESCRIPTION:During the week of February 8th-February 14th\, we will host a video game fundraiser on a twitch steam in memory of my twins\, Twin A Jordan Suzanne and Twin B Ariana Catherine. Ariana was born with anencephaly and Jordan was stillborn. \nThey received photographs with the help of a NILMDTS photographer\, and remark that “Now\, five years later\, we have these beautiful photos to look back on. Instead of focusing on the ugliness of their deaths\, we can instead see the beauty of their short-lived lives\, and the immense love that we still have for them. We owe it all to NILMDTS and Rachael.” \nYou can donate online and join the Twitch livestream here:  https://www.twitch.tv/therosepatchgaming \n 
URL:https://www.nowilaymedowntosleep.org/events/gaming-for-remembrance/
LOCATION:Twitch
CATEGORIES:Fundraiser,Parent,Remembrance Event
ATTACH;FMTTYPE=image/jpeg:https://www.nowilaymedowntosleep.org/wp-content/uploads/2026/02/NILMDTS-fundraiser-graphic.jpg
END:VEVENT
BEGIN:VEVENT
DTSTART;TZID=America/Chicago:20251102T130000
DTEND;TZID=America/Chicago:20251102T170000
DTSTAMP:20260422T201429
CREATED:20250919T211602Z
LAST-MODIFIED:20250919T211616Z
UID:42884-1762088400-1762102800@www.nowilaymedowntosleep.org
SUMMARY:The Love Can Store
DESCRIPTION:The Love Can Store is more than an event. It’s a place where families are reminded that dignity and hope belong to them. We are bringing together over 75 local nonprofits\, resources\, job opportunities\, hygiene products\, socks\, hugs\, and so much more—all under one roof at Baxter Arena on Sunday\, November 2\, 2025\, from 1–5 PM.
URL:https://www.nowilaymedowntosleep.org/events/love-can-store/
LOCATION:Baxter Arena\, 2425 South 67th Street\, Omaha\, NE\, 68182\, United States
CATEGORIES:Parent,Remembrance Event
ATTACH;FMTTYPE=image/jpeg:https://www.nowilaymedowntosleep.org/wp-content/uploads/2025/09/project-international-love-can-store.jpg
END:VEVENT
BEGIN:VEVENT
DTSTART;TZID=America/Detroit:20251011T090000
DTEND;TZID=America/Detroit:20251011T113000
DTSTAMP:20260422T201429
CREATED:20240528T193656Z
LAST-MODIFIED:20250903T014852Z
UID:42076-1760173200-1760182200@www.nowilaymedowntosleep.org
SUMMARY:P.A.I.L. Remembrance & Awareness Walk
DESCRIPTION:The P.A.I.L. Remembrance & Awareness Walk will be hosted by Alive In My Heart\, Miles’ Mission\, Columbus Public Health\, and Nationwide Children’s Hospital at Genoa Park in Columbus. The event will bring awareness and support around the experience of Pregnancy and Infant Loss (“P.A.I.L.”) and honor and remember all of the babies we miss\, babies who are loved beyond measure. \nCheck-in will open at 9 am and a brief presentation will begin at 10 am including Keynote Speaker Seneca Bing of Aliyah’s Light and music by Heather Evans. The un-timed one-mile walk begins following the presentation\, at roughly 10:30 am. The event will also include light snacks\, water\, resources for grieving parents\, activities for children\, and Dos Hermanos Food Truck and Kingdom Coffee Truck available for purchase\, so please arrive early to enjoy these opportunities. The course is stroller-friendly\, but pets other than service animals are not permitted.
URL:https://www.nowilaymedowntosleep.org/events/alive-in-my-heart/
LOCATION:Genoa Park\, 303 W. Broad St.\, Columbus\, OH\, 43215\, United States
CATEGORIES:Parent,Remembrance Event
ATTACH;FMTTYPE=image/png:https://www.nowilaymedowntosleep.org/wp-content/uploads/2024/05/P.A.I.L.-Remembrance-and-Awareness-Walk-Final-Design-.png
END:VEVENT
BEGIN:VEVENT
DTSTART;TZID=America/Detroit:20250913T090000
DTEND;TZID=America/Detroit:20250913T120000
DTSTAMP:20260422T201429
CREATED:20240716T184259Z
LAST-MODIFIED:20250828T040147Z
UID:42206-1757754000-1757764800@www.nowilaymedowntosleep.org
SUMMARY:Charlie's Challenge 2025
DESCRIPTION:The Charles Martin Corvi Fund partners with organizations that support families who have experienced pregnancy or infant loss\, including NILMDTS.\nCourse Options: \nWALK – 5.4 miles – starts at Station Road Bridge Trailhead\, turn around at Red Lock Trailhead \nRUN – 13.8 miles – starts at Station Road Bridge Trailhead\, turn around at Lock 29 Trailhead \nBIKE (Adult) – 27 miles – starts at Station Road Bridge Trailhead\, turn around at Botzum Trailhead \nBIKE (Child) – 5.4 miles – starts at Station Road Bridge Trailhead\, turn around at Redlock Trailhead
URL:https://www.nowilaymedowntosleep.org/events/charlies-challenge/
LOCATION:Cuyahoga Valley National Park\, between Cleveland and Akron\, OH\, United States
CATEGORIES:Parent,Remembrance Event
ATTACH;FMTTYPE=image/png:https://www.nowilaymedowntosleep.org/wp-content/uploads/2024/07/IMG_8542.png
END:VEVENT
BEGIN:VEVENT
DTSTART;VALUE=DATE:20250211
DTEND;VALUE=DATE:20250217
DTSTAMP:20260422T201429
CREATED:20250211T190923Z
LAST-MODIFIED:20250211T211548Z
UID:42546-1739232000-1739750399@www.nowilaymedowntosleep.org
SUMMARY:Vote for Project for Awesome
DESCRIPTION:We have an incredible opportunity to receive a grant through Project for Awesome (P4A)—but we need your vote to make it happen!\nP4A is an annual event that raises funds for charities making the world a better place\, and only the top 30 nonprofits receive grants. Your vote can help Now I Lay Me Down to Sleep continue providing remembrance photography to grieving families. \nEvery vote counts\, and you can vote once per device (phone\, tablet\, computer) between February 11-16\, 2025! \nLast year\, nonprofits were awarded in excess of $30\,000! \nWith a grant from Project for Awesome 2025\, we can train and equip more volunteer photographers\, expand our outreach to hospitals and birthing centers\, develop online resources for grieving families\, and touch more families in their time of need\, ensuring that no parent has to face this unimaginable loss without the gift of remembrance.
URL:https://www.nowilaymedowntosleep.org/events/project-for-awesome/
CATEGORIES:Fundraiser,Parent,Volunteer
ATTACH;FMTTYPE=image/png:https://www.nowilaymedowntosleep.org/wp-content/uploads/2025/02/P4A-Project-for-Awesome.png
END:VEVENT
BEGIN:VEVENT
DTSTART;TZID=America/Detroit:20240928T090000
DTEND;TZID=America/Detroit:20240928T130000
DTSTAMP:20260422T201429
CREATED:20240614T212641Z
LAST-MODIFIED:20241021T231917Z
UID:42113-1727514000-1727528400@www.nowilaymedowntosleep.org
SUMMARY:Baby Steps 5K Run/Walk
DESCRIPTION:Families are welcome to walk and join us afterward for a brief memorial in honor of the beloved babies gone too soon. The park is open for you to enjoy post-race. Proceeds will be donated to the Star Legacy Foundation\, Now I Lay Me Down to Sleep\, and Amos’ Anchors: perinatal bereavement support organizations that provide resources and care programs in Kalamazoo County\, Michigan and beyond.
URL:https://www.nowilaymedowntosleep.org/events/baby-steps-5k/
LOCATION:Spring Valley Park\, 2606 Mt Olivet Rd\, Kalamazoo\, MI\, 49004\, United States
CATEGORIES:Fundraiser,Parent,Remembrance Event
ATTACH;FMTTYPE=image/png:https://www.nowilaymedowntosleep.org/wp-content/uploads/2024/06/Baby-Steps-Run-Walk.png
END:VEVENT
BEGIN:VEVENT
DTSTART;TZID=America/Chicago:20240614T173000
DTEND;TZID=America/Chicago:20240614T193000
DTSTAMP:20260422T201429
CREATED:20240510T055626Z
LAST-MODIFIED:20241021T231918Z
UID:42054-1718386200-1718393400@www.nowilaymedowntosleep.org
SUMMARY:Candle Glow
DESCRIPTION:The HART Foundation (Hope And River Talken) presents the first Candle Glow. NILMDTS will be in attendance providing information.
URL:https://www.nowilaymedowntosleep.org/events/candle-glow/
LOCATION:Missouri State Capitol\, 201 W Capitol Ave\, Jefferson City\, MO\, 65101\, United States
CATEGORIES:Parent,Remembrance Event
ATTACH;FMTTYPE=image/jpeg:https://www.nowilaymedowntosleep.org/wp-content/uploads/2024/05/HEART-Foundation-Candle-Glow.jpeg
END:VEVENT
BEGIN:VEVENT
DTSTART;VALUE=DATE:20230507
DTEND;VALUE=DATE:20230508
DTSTAMP:20260422T201429
CREATED:20230221T175212Z
LAST-MODIFIED:20241021T231920Z
UID:40602-1683417600-1683503999@www.nowilaymedowntosleep.org
SUMMARY:Spring Virtual Walk 2023
DESCRIPTION:May 7\, 2023 Spring Virtual Walk\nin conjunction with Bereaved Mother’s Day\nThe Virtual Walk will include an online presentation with readings\, music\, and speakers to honor your baby. During the presentation\, each baby is honored by having their name read aloud. \nFollowing the presentation\, a Virtual Resource Library\, including additional speakers and musicians\, will also be available. Attendees are encouraged to take some personal time to journey with their friends and family for a one-mile reflective walk in their own community. Together\, we will create the same sense of community and support found at our in-person walks.
URL:https://www.nowilaymedowntosleep.org/events/spring-virtual-walk-2023/
LOCATION:Online
CATEGORIES:Parent,Remembrance Event
ATTACH;FMTTYPE=image/jpeg:https://www.nowilaymedowntosleep.org/wp-content/uploads/2023/02/vw-image-e1677010752740.jpg
END:VEVENT
BEGIN:VEVENT
DTSTART;TZID=America/Denver:20221001T090000
DTEND;TZID=America/Denver:20221001T100000
DTSTAMP:20260422T201429
CREATED:20190419T220547Z
LAST-MODIFIED:20241021T231938Z
UID:36123-1664614800-1664618400@www.nowilaymedowntosleep.org
SUMMARY:2022 Fall Virtual Walk
DESCRIPTION:The Fall Virtual Walk will include an online presentation with readings\, music\, and speakers to honor your baby. During the presentation\, each baby is honored by having his or her name read aloud.  Find out more information about the event here.
URL:https://www.nowilaymedowntosleep.org/events/2022fallvirtual/
LOCATION:Online
CATEGORIES:Parent,Remembrance Event
ATTACH;FMTTYPE=image/png:https://www.nowilaymedowntosleep.org/wp-content/uploads/2019/04/EventGraphics.FallVirtual.png
END:VEVENT
BEGIN:VEVENT
DTSTART;TZID=America/New_York:20220625T100000
DTEND;TZID=America/New_York:20220625T100000
DTSTAMP:20260422T201429
CREATED:20190114T123032Z
LAST-MODIFIED:20241021T231939Z
UID:35699-1656151200-1656151200@www.nowilaymedowntosleep.org
SUMMARY:Ohio Remembrance Walk
DESCRIPTION:Join us at the Ohio Walk either in person at Genoa Park or watch the presentation online from the comfort of your home. The NILMDTS Remembrance Walk is an opportunity to bring honor to our babies and healing to our hearts. The Walk also ensures future support to families who will sadly walk in our shoes one day.  Click here to learn more here.
URL:https://www.nowilaymedowntosleep.org/events/ohio-remembrance-walk/
LOCATION:Genoa Park\, 303 W. Broad St.\, Columbus\, OH\, 43215\, United States
CATEGORIES:Parent,Remembrance Event
ATTACH;FMTTYPE=image/png:https://www.nowilaymedowntosleep.org/wp-content/uploads/2022/01/Ohio.png
END:VEVENT
BEGIN:VEVENT
DTSTART;TZID=America/Denver:20220409T090000
DTEND;TZID=America/Denver:20220409T090000
DTSTAMP:20260422T201429
CREATED:20190114T122236Z
LAST-MODIFIED:20241021T231940Z
UID:35696-1649494800-1649494800@www.nowilaymedowntosleep.org
SUMMARY:Spring Virtual Walk
DESCRIPTION:The Spring Virtual Walk will include an online presentation with readings\, music\, and speakers to honor your baby. During the presentation\, each baby is honored by having their name read aloud. A Virtual Resource Library including additional speakers and musicians will also be available. Attendees are encouraged to take some personal time to journey with their friends and family for a one-mile reflective walk in their own community. Together\, we will create the same sense of community and support found at our in-person walks.  Learn more on our website here.
URL:https://www.nowilaymedowntosleep.org/events/spring-virtual-walk/
LOCATION:Online
CATEGORIES:Parent,Remembrance Event
ATTACH;FMTTYPE=image/png:https://www.nowilaymedowntosleep.org/wp-content/uploads/2022/01/SpringVirtual.png
END:VEVENT
BEGIN:VEVENT
DTSTART;VALUE=DATE:20200328
DTEND;VALUE=DATE:20200329
DTSTAMP:20260422T201429
CREATED:20190107T023934Z
LAST-MODIFIED:20241021T231959Z
UID:35581-1585353600-1585439999@www.nowilaymedowntosleep.org
SUMMARY:Florida Remembrance Walk
DESCRIPTION:EVENT UPDATE: Due to the recent COVID-19 outbreak\, NILMDTS has made the difficult decision to restructure the 2020 Florida Walk. In order to prevent the spread of infection\, we will not be holding a physical walk on March 28th in Orlando. We have closed online registration for any additional participants. Anyone that has already registered for the event\, please check your email for further instructions. If you did not receive the email\, please contact us here.
URL:https://www.nowilaymedowntosleep.org/events/florida-remembrance-walk/
LOCATION:Virtual
CATEGORIES:Parent,Remembrance Event
ATTACH;FMTTYPE=image/png:https://www.nowilaymedowntosleep.org/wp-content/uploads/2019/08/WebSquares.Locations.FL_.png
END:VEVENT
END:VCALENDAR