BEGIN:VCALENDAR
VERSION:2.0
PRODID:-//Now I Lay Me Down to Sleep - ECPv6.15.20//NONSGML v1.0//EN
CALSCALE:GREGORIAN
METHOD:PUBLISH
X-ORIGINAL-URL:https://www.nowilaymedowntosleep.org
X-WR-CALDESC:Events for Now I Lay Me Down to Sleep
REFRESH-INTERVAL;VALUE=DURATION:PT1H
X-Robots-Tag:noindex
X-PUBLISHED-TTL:PT1H
BEGIN:VTIMEZONE
TZID:America/Denver
BEGIN:DAYLIGHT
TZOFFSETFROM:-0700
TZOFFSETTO:-0600
TZNAME:MDT
DTSTART:20250309T090000
END:DAYLIGHT
BEGIN:STANDARD
TZOFFSETFROM:-0600
TZOFFSETTO:-0700
TZNAME:MST
DTSTART:20251102T080000
END:STANDARD
BEGIN:DAYLIGHT
TZOFFSETFROM:-0700
TZOFFSETTO:-0600
TZNAME:MDT
DTSTART:20260308T090000
END:DAYLIGHT
BEGIN:STANDARD
TZOFFSETFROM:-0600
TZOFFSETTO:-0700
TZNAME:MST
DTSTART:20261101T080000
END:STANDARD
BEGIN:DAYLIGHT
TZOFFSETFROM:-0700
TZOFFSETTO:-0600
TZNAME:MDT
DTSTART:20270314T090000
END:DAYLIGHT
BEGIN:STANDARD
TZOFFSETFROM:-0600
TZOFFSETTO:-0700
TZNAME:MST
DTSTART:20271107T080000
END:STANDARD
END:VTIMEZONE
BEGIN:VEVENT
DTSTART;VALUE=DATE:20260425
DTEND;VALUE=DATE:20260426
DTSTAMP:20260422T200638
CREATED:20240212T211525Z
LAST-MODIFIED:20260318T232236Z
UID:41927-1777075200-1777161599@www.nowilaymedowntosleep.org
SUMMARY:Smilin' Rylen Run
DESCRIPTION:Join us on Saturday\, April 25\, 2026\, as we race to make a difference! Proceeds from the Smilin’ Rylen Run benefit the Smilin’ Rylen Foundation’s mission to assist families in crisis. This includes our proud support of Now I Lay Me Down to Sleep (NILMDTS)\, helping them provide portraits to grieving families. Whether you run the 5K\, 10K\, or 1 Mile\, your strides help capture a lifetime of love in a single moment. \nOnsite Registration begins at 6:45 am\n10K & 5K Races start at 8:00 am\n1-mile will begin at 8:15 am
URL:https://www.nowilaymedowntosleep.org/events/smilin-rylen-run/
LOCATION:University of Houston at Katy\, 22400 Grand Cir Blvd\, Katy\, TX\, 77450\, United States
CATEGORIES:Fundraiser,Parent,Remembrance Event
ATTACH;FMTTYPE=image/jpeg:https://www.nowilaymedowntosleep.org/wp-content/uploads/2024/02/smilin-rylen-run-e1773876145582.jpg
END:VEVENT
END:VCALENDAR