BEGIN:VCALENDAR
VERSION:2.0
PRODID:-//Now I Lay Me Down to Sleep - ECPv6.15.20//NONSGML v1.0//EN
CALSCALE:GREGORIAN
METHOD:PUBLISH
X-WR-CALNAME:Now I Lay Me Down to Sleep
X-ORIGINAL-URL:https://www.nowilaymedowntosleep.org
X-WR-CALDESC:Events for Now I Lay Me Down to Sleep
REFRESH-INTERVAL;VALUE=DURATION:PT1H
X-Robots-Tag:noindex
X-PUBLISHED-TTL:PT1H
BEGIN:VTIMEZONE
TZID:America/New_York
BEGIN:DAYLIGHT
TZOFFSETFROM:-0500
TZOFFSETTO:-0400
TZNAME:EDT
DTSTART:20210314T070000
END:DAYLIGHT
BEGIN:STANDARD
TZOFFSETFROM:-0400
TZOFFSETTO:-0500
TZNAME:EST
DTSTART:20211107T060000
END:STANDARD
BEGIN:DAYLIGHT
TZOFFSETFROM:-0500
TZOFFSETTO:-0400
TZNAME:EDT
DTSTART:20220313T070000
END:DAYLIGHT
BEGIN:STANDARD
TZOFFSETFROM:-0400
TZOFFSETTO:-0500
TZNAME:EST
DTSTART:20221106T060000
END:STANDARD
BEGIN:DAYLIGHT
TZOFFSETFROM:-0500
TZOFFSETTO:-0400
TZNAME:EDT
DTSTART:20230312T070000
END:DAYLIGHT
BEGIN:STANDARD
TZOFFSETFROM:-0400
TZOFFSETTO:-0500
TZNAME:EST
DTSTART:20231105T060000
END:STANDARD
END:VTIMEZONE
BEGIN:VEVENT
DTSTART;TZID=America/New_York:20220625T100000
DTEND;TZID=America/New_York:20220625T100000
DTSTAMP:20260425T221504
CREATED:20190114T123032Z
LAST-MODIFIED:20241021T231939Z
UID:35699-1656151200-1656151200@www.nowilaymedowntosleep.org
SUMMARY:Ohio Remembrance Walk
DESCRIPTION:Join us at the Ohio Walk either in person at Genoa Park or watch the presentation online from the comfort of your home. The NILMDTS Remembrance Walk is an opportunity to bring honor to our babies and healing to our hearts. The Walk also ensures future support to families who will sadly walk in our shoes one day.  Click here to learn more here.
URL:https://www.nowilaymedowntosleep.org/events/ohio-remembrance-walk/
LOCATION:Genoa Park\, 303 W. Broad St.\, Columbus\, OH\, 43215\, United States
CATEGORIES:Parent,Remembrance Event
ATTACH;FMTTYPE=image/png:https://www.nowilaymedowntosleep.org/wp-content/uploads/2022/01/Ohio.png
END:VEVENT
END:VCALENDAR