BEGIN:VCALENDAR
VERSION:2.0
PRODID:-//Now I Lay Me Down to Sleep - ECPv6.15.20//NONSGML v1.0//EN
CALSCALE:GREGORIAN
METHOD:PUBLISH
X-ORIGINAL-URL:https://www.nowilaymedowntosleep.org
X-WR-CALDESC:Events for Now I Lay Me Down to Sleep
REFRESH-INTERVAL;VALUE=DURATION:PT1H
X-Robots-Tag:noindex
X-PUBLISHED-TTL:PT1H
BEGIN:VTIMEZONE
TZID:America/Detroit
BEGIN:DAYLIGHT
TZOFFSETFROM:-0500
TZOFFSETTO:-0400
TZNAME:EDT
DTSTART:20240310T070000
END:DAYLIGHT
BEGIN:STANDARD
TZOFFSETFROM:-0400
TZOFFSETTO:-0500
TZNAME:EST
DTSTART:20241103T060000
END:STANDARD
BEGIN:DAYLIGHT
TZOFFSETFROM:-0500
TZOFFSETTO:-0400
TZNAME:EDT
DTSTART:20250309T070000
END:DAYLIGHT
BEGIN:STANDARD
TZOFFSETFROM:-0400
TZOFFSETTO:-0500
TZNAME:EST
DTSTART:20251102T060000
END:STANDARD
BEGIN:DAYLIGHT
TZOFFSETFROM:-0500
TZOFFSETTO:-0400
TZNAME:EDT
DTSTART:20260308T070000
END:DAYLIGHT
BEGIN:STANDARD
TZOFFSETFROM:-0400
TZOFFSETTO:-0500
TZNAME:EST
DTSTART:20261101T060000
END:STANDARD
END:VTIMEZONE
BEGIN:VEVENT
DTSTART;TZID=America/Detroit:20250927T100000
DTEND;TZID=America/Detroit:20250927T130000
DTSTAMP:20260423T070349
CREATED:20250905T165427Z
LAST-MODIFIED:20250905T165427Z
UID:42843-1758967200-1758978000@www.nowilaymedowntosleep.org
SUMMARY:Baby Steps 5k Run/Walk
DESCRIPTION:The Baby Steps 5k Walk/Run is in honor of Pregnancy and Infant Loss Awareness Day (which is October 15\, though we’re running/walking in September when the weather is hopefully nicer for being outdoors!). Miscarriage\, stillbirth\, and infant loss are sad realities for many families in the United States and around the world. Proceeds from this race will be donated to the Star Legacy Foundation\, Amos’ Anchors\, and Now I Lay Me Down to Sleep. \nPrice information: \n🐤 Early bird pricing ends August 31 \n💲 Family price option is available for a maximum of 2 adults and up to 4 children – $60 \nRace information: \n🚶‍♂️  Walkers will follow a one-loop course – 2 miles \n🏃  Runners will follow a two-loop course – 3.1 miles \n👕 Shirts are included with registration before September 1 \n🍎 Post-race snacks and water are provided \nSchedule of events: \nFriday\, September 26 \n5-7 PM: Bib pick-up & pre-race check-in. Location: Biggby\, 23944 Red Arrow Hwy\, Mattawan\, MI 49071 \nSaturday\, September 27 \n8:30 AM – Bib pick-up and on-site registration \n10:00 AM – Race begins \n11:15 AM – Ceremony of Remembrance \n  \nThis race is organized by Amos’ Anchors and Forever Loved (A Committee for Better Perinatal Bereavement Care in West Michigan). \n 
URL:https://www.nowilaymedowntosleep.org/events/baby-steps-5k-run-walk/
LOCATION:Spring Valley Park\, 2606 Mt Olivet Rd\, Kalamazoo\, MI\, 49004\, United States
CATEGORIES:Fundraiser,Remembrance Event
ATTACH;FMTTYPE=image/png:https://www.nowilaymedowntosleep.org/wp-content/uploads/2025/09/RITE-WRITE-WRITEx.png
END:VEVENT
END:VCALENDAR