BEGIN:VCALENDAR
VERSION:2.0
PRODID:-//Now I Lay Me Down to Sleep - ECPv6.15.20//NONSGML v1.0//EN
CALSCALE:GREGORIAN
METHOD:PUBLISH
X-ORIGINAL-URL:https://www.nowilaymedowntosleep.org
X-WR-CALDESC:Events for Now I Lay Me Down to Sleep
REFRESH-INTERVAL;VALUE=DURATION:PT1H
X-Robots-Tag:noindex
X-PUBLISHED-TTL:PT1H
BEGIN:VTIMEZONE
TZID:America/Denver
BEGIN:DAYLIGHT
TZOFFSETFROM:-0700
TZOFFSETTO:-0600
TZNAME:MDT
DTSTART:20250309T090000
END:DAYLIGHT
BEGIN:STANDARD
TZOFFSETFROM:-0600
TZOFFSETTO:-0700
TZNAME:MST
DTSTART:20251102T080000
END:STANDARD
BEGIN:DAYLIGHT
TZOFFSETFROM:-0700
TZOFFSETTO:-0600
TZNAME:MDT
DTSTART:20260308T090000
END:DAYLIGHT
BEGIN:STANDARD
TZOFFSETFROM:-0600
TZOFFSETTO:-0700
TZNAME:MST
DTSTART:20261101T080000
END:STANDARD
BEGIN:DAYLIGHT
TZOFFSETFROM:-0700
TZOFFSETTO:-0600
TZNAME:MDT
DTSTART:20270314T090000
END:DAYLIGHT
BEGIN:STANDARD
TZOFFSETFROM:-0600
TZOFFSETTO:-0700
TZNAME:MST
DTSTART:20271107T080000
END:STANDARD
END:VTIMEZONE
BEGIN:VEVENT
DTSTART;VALUE=DATE:20260208
DTEND;VALUE=DATE:20260215
DTSTAMP:20260423T025716
CREATED:20260207T031507Z
LAST-MODIFIED:20260407T174512Z
UID:43070-1770508800-1771113599@www.nowilaymedowntosleep.org
SUMMARY:Gaming for Remembrance
DESCRIPTION:During the week of February 8th-February 14th\, we will host a video game fundraiser on a twitch steam in memory of my twins\, Twin A Jordan Suzanne and Twin B Ariana Catherine. Ariana was born with anencephaly and Jordan was stillborn. \nThey received photographs with the help of a NILMDTS photographer\, and remark that “Now\, five years later\, we have these beautiful photos to look back on. Instead of focusing on the ugliness of their deaths\, we can instead see the beauty of their short-lived lives\, and the immense love that we still have for them. We owe it all to NILMDTS and Rachael.” \nYou can donate online and join the Twitch livestream here:  https://www.twitch.tv/therosepatchgaming \n 
URL:https://www.nowilaymedowntosleep.org/events/gaming-for-remembrance/
LOCATION:Twitch
CATEGORIES:Fundraiser,Parent,Remembrance Event
ATTACH;FMTTYPE=image/jpeg:https://www.nowilaymedowntosleep.org/wp-content/uploads/2026/02/NILMDTS-fundraiser-graphic.jpg
END:VEVENT
END:VCALENDAR