BEGIN:VCALENDAR
VERSION:2.0
PRODID:-//Now I Lay Me Down to Sleep - ECPv6.15.20//NONSGML v1.0//EN
CALSCALE:GREGORIAN
METHOD:PUBLISH
X-ORIGINAL-URL:https://www.nowilaymedowntosleep.org
X-WR-CALDESC:Events for Now I Lay Me Down to Sleep
REFRESH-INTERVAL;VALUE=DURATION:PT1H
X-Robots-Tag:noindex
X-PUBLISHED-TTL:PT1H
BEGIN:VTIMEZONE
TZID:America/New_York
BEGIN:DAYLIGHT
TZOFFSETFROM:-0500
TZOFFSETTO:-0400
TZNAME:EDT
DTSTART:20230312T070000
END:DAYLIGHT
BEGIN:STANDARD
TZOFFSETFROM:-0400
TZOFFSETTO:-0500
TZNAME:EST
DTSTART:20231105T060000
END:STANDARD
BEGIN:DAYLIGHT
TZOFFSETFROM:-0500
TZOFFSETTO:-0400
TZNAME:EDT
DTSTART:20240310T070000
END:DAYLIGHT
BEGIN:STANDARD
TZOFFSETFROM:-0400
TZOFFSETTO:-0500
TZNAME:EST
DTSTART:20241103T060000
END:STANDARD
BEGIN:DAYLIGHT
TZOFFSETFROM:-0500
TZOFFSETTO:-0400
TZNAME:EDT
DTSTART:20250309T070000
END:DAYLIGHT
BEGIN:STANDARD
TZOFFSETFROM:-0400
TZOFFSETTO:-0500
TZNAME:EST
DTSTART:20251102T060000
END:STANDARD
END:VTIMEZONE
BEGIN:VTIMEZONE
TZID:America/Detroit
BEGIN:DAYLIGHT
TZOFFSETFROM:-0500
TZOFFSETTO:-0400
TZNAME:EDT
DTSTART:20230312T070000
END:DAYLIGHT
BEGIN:STANDARD
TZOFFSETFROM:-0400
TZOFFSETTO:-0500
TZNAME:EST
DTSTART:20231105T060000
END:STANDARD
BEGIN:DAYLIGHT
TZOFFSETFROM:-0500
TZOFFSETTO:-0400
TZNAME:EDT
DTSTART:20240310T070000
END:DAYLIGHT
BEGIN:STANDARD
TZOFFSETFROM:-0400
TZOFFSETTO:-0500
TZNAME:EST
DTSTART:20241103T060000
END:STANDARD
BEGIN:DAYLIGHT
TZOFFSETFROM:-0500
TZOFFSETTO:-0400
TZNAME:EDT
DTSTART:20250309T070000
END:DAYLIGHT
BEGIN:STANDARD
TZOFFSETFROM:-0400
TZOFFSETTO:-0500
TZNAME:EST
DTSTART:20251102T060000
END:STANDARD
END:VTIMEZONE
BEGIN:VEVENT
DTSTART;VALUE=DATE:20240927
DTEND;VALUE=DATE:20240928
DTSTAMP:20260424T042827
CREATED:20240709T163520Z
LAST-MODIFIED:20241021T231917Z
UID:42142-1727395200-1727481599@www.nowilaymedowntosleep.org
SUMMARY:51st Annual Perinatal Symposium
DESCRIPTION:The Regional Perinatal Program of Crouse Hospital and Upstate University Hospital in Syracuse will hold its 51st Annual Perinatal Symposium on Friday\, September 27\, 2024 at the Embassy Suites Destiny USA by Hilton\, 311 Hiawatha Blvd W\, Syracuse\, New York\, 13204. It draws over 200 attendees from the 13 county Central New York referral areas. The participants include many disciplines of health care professionals caring for women throughout the perinatal period and newborn babies.
URL:https://www.nowilaymedowntosleep.org/events/perinatal-symposium/
LOCATION:Embassy Suites Destiny USA by Hilton\, 311 Hiawatha Blvd W\, Syracuse\, New York\, 13204\, United States
CATEGORIES:Medical
END:VEVENT
BEGIN:VEVENT
DTSTART;TZID=America/Detroit:20240928T090000
DTEND;TZID=America/Detroit:20240928T130000
DTSTAMP:20260424T042827
CREATED:20240614T212641Z
LAST-MODIFIED:20241021T231917Z
UID:42113-1727514000-1727528400@www.nowilaymedowntosleep.org
SUMMARY:Baby Steps 5K Run/Walk
DESCRIPTION:Families are welcome to walk and join us afterward for a brief memorial in honor of the beloved babies gone too soon. The park is open for you to enjoy post-race. Proceeds will be donated to the Star Legacy Foundation\, Now I Lay Me Down to Sleep\, and Amos’ Anchors: perinatal bereavement support organizations that provide resources and care programs in Kalamazoo County\, Michigan and beyond.
URL:https://www.nowilaymedowntosleep.org/events/baby-steps-5k/
LOCATION:Spring Valley Park\, 2606 Mt Olivet Rd\, Kalamazoo\, MI\, 49004\, United States
CATEGORIES:Fundraiser,Parent,Remembrance Event
ATTACH;FMTTYPE=image/png:https://www.nowilaymedowntosleep.org/wp-content/uploads/2024/06/Baby-Steps-Run-Walk.png
END:VEVENT
END:VCALENDAR